BEGIN:VCALENDAR
VERSION:2.0
PRODID:-//Mustangs JRB Hockey - ECPv4.5.10//NONSGML v1.0//EN
CALSCALE:GREGORIAN
METHOD:PUBLISH
X-WR-CALNAME:Mustangs JRB Hockey
X-ORIGINAL-URL:http://mustangsjrb.ca
X-WR-CALDESC:Events for Mustangs JRB Hockey
BEGIN:VEVENT
DTSTART;TZID=America/Edmonton:20240808T211500
DTEND;TZID=America/Edmonton:20240808T223000
DTSTAMP:20260420T124345
CREATED:20240606T013304Z
LAST-MODIFIED:20240606T013304Z
UID:1324-1723151700-1723156200@mustangsjrb.ca
SUMMARY:Summer Ice
DESCRIPTION:Callingwood Twin Arena B \n9:15 PM to 10:30 PM \n
URL:http://mustangsjrb.ca/event/summer-ice-4/
END:VEVENT
END:VCALENDAR