BEGIN:VCALENDAR
VERSION:2.0
PRODID:-//Mustangs JRB Hockey - ECPv4.5.10//NONSGML v1.0//EN
CALSCALE:GREGORIAN
METHOD:PUBLISH
X-WR-CALNAME:Mustangs JRB Hockey
X-ORIGINAL-URL:http://mustangsjrb.ca
X-WR-CALDESC:Events for Mustangs JRB Hockey
BEGIN:VEVENT
DTSTART;TZID=America/Edmonton:20230917T200000
DTEND;TZID=America/Edmonton:20230917T220000
DTSTAMP:20260421T090234
CREATED:20230905T030959Z
LAST-MODIFIED:20230905T030959Z
UID:1132-1694980800-1694988000@mustangsjrb.ca
SUMMARY:Edmonton Mustangs VS Leduc Co-op Riggers
DESCRIPTION:8pm \nBill Hunter Arena \n
URL:http://mustangsjrb.ca/event/edmonton-mustangs-vs-leduc-co-op-riggers/
END:VEVENT
END:VCALENDAR