BEGIN:VCALENDAR
VERSION:2.0
PRODID:-//Mustangs JRB Hockey - ECPv4.5.10//NONSGML v1.0//EN
CALSCALE:GREGORIAN
METHOD:PUBLISH
X-WR-CALNAME:Mustangs JRB Hockey
X-ORIGINAL-URL:http://mustangsjrb.ca
X-WR-CALDESC:Events for Mustangs JRB Hockey
BEGIN:VEVENT
DTSTART;TZID=America/Edmonton:20230915T200000
DTEND;TZID=America/Edmonton:20230915T220000
DTSTAMP:20260421T090849
CREATED:20230905T030827Z
LAST-MODIFIED:20230905T031053Z
UID:1130-1694808000-1694815200@mustangsjrb.ca
SUMMARY:Beaumont Chiefs VS Edmonton Mustangs
DESCRIPTION:8pm \nK. Nichol Arena \n
URL:http://mustangsjrb.ca/event/beaumont-chiefs-vs-edmonton-mustangs/
END:VEVENT
END:VCALENDAR