BEGIN:VCALENDAR
VERSION:2.0
PRODID:-//Mustangs JRB Hockey - ECPv4.5.10//NONSGML v1.0//EN
CALSCALE:GREGORIAN
METHOD:PUBLISH
X-WR-CALNAME:Mustangs JRB Hockey
X-ORIGINAL-URL:http://mustangsjrb.ca
X-WR-CALDESC:Events for Mustangs JRB Hockey
BEGIN:VEVENT
DTSTART;TZID=America/Edmonton:20230910T194500
DTEND;TZID=America/Edmonton:20230910T214500
DTSTAMP:20260421T090620
CREATED:20230822T173259Z
LAST-MODIFIED:20230908T185938Z
UID:1125-1694375100-1694382300@mustangsjrb.ca
SUMMARY:Exhibition Game
DESCRIPTION:Edmonton Mustangs VS. Spruce Grove Regals \nGrant Fuhr Arena \nSunday\, September 10th \n7pm \n
URL:http://mustangsjrb.ca/event/exhibition-game-7/
END:VEVENT
END:VCALENDAR