BEGIN:VCALENDAR
VERSION:2.0
PRODID:-//Mustangs JRB Hockey - ECPv4.5.10//NONSGML v1.0//EN
CALSCALE:GREGORIAN
METHOD:PUBLISH
X-WR-CALNAME:Mustangs JRB Hockey
X-ORIGINAL-URL:http://mustangsjrb.ca
X-WR-CALDESC:Events for Mustangs JRB Hockey
BEGIN:VEVENT
DTSTART;TZID=America/Edmonton:20230807T191500
DTEND;TZID=America/Edmonton:20230807T203000
DTSTAMP:20260421T101416
CREATED:20230606T183631Z
LAST-MODIFIED:20230606T183720Z
UID:1091-1691435700-1691440200@mustangsjrb.ca
SUMMARY:Conditioning Camp
DESCRIPTION:Conditioning Camp \nCallingwood A Arena \nAugust 7\, 2023 \n7:15-8:30pm \n
URL:http://mustangsjrb.ca/event/1091/
END:VEVENT
END:VCALENDAR