BEGIN:VCALENDAR
VERSION:2.0
PRODID:-//Mustangs JRB Hockey - ECPv4.5.10//NONSGML v1.0//EN
CALSCALE:GREGORIAN
METHOD:PUBLISH
X-WR-CALNAME:Mustangs JRB Hockey
X-ORIGINAL-URL:http://mustangsjrb.ca
X-WR-CALDESC:Events for Mustangs JRB Hockey
BEGIN:VEVENT
DTSTART;TZID=America/Edmonton:20180926T203000
DTEND;TZID=America/Edmonton:20180926T221500
DTSTAMP:20260425T104525
CREATED:20180905T174644Z
LAST-MODIFIED:20180905T174644Z
UID:501-1537993800-1538000100@mustangsjrb.ca
SUMMARY:Warriors vs Mustangs (home game) Bill Hunter
DESCRIPTION:Warriors vs Mustangs (home game) Bill Hunter \n
URL:http://mustangsjrb.ca/event/warriors-vs-mustangs-home-game-bill-hunter/
END:VEVENT
END:VCALENDAR