BEGIN:VCALENDAR
VERSION:2.0
PRODID:-//Mustangs JRB Hockey - ECPv4.5.10//NONSGML v1.0//EN
CALSCALE:GREGORIAN
METHOD:PUBLISH
X-WR-CALNAME:Mustangs JRB Hockey
X-ORIGINAL-URL:http://mustangsjrb.ca
X-WR-CALDESC:Events for Mustangs JRB Hockey
BEGIN:VEVENT
DTSTART;TZID=America/Edmonton:20220908T190000
DTEND;TZID=America/Edmonton:20220908T203000
DTSTAMP:20260421T222146
CREATED:20220906T153627Z
LAST-MODIFIED:20220906T153957Z
UID:1012-1662663600-1662669000@mustangsjrb.ca
SUMMARY:Tryouts
DESCRIPTION:Tryout Ice @ 7-8:30pm \nCallingwood Arena \n  \n
URL:http://mustangsjrb.ca/event/tryouts-2/
END:VEVENT
END:VCALENDAR