BEGIN:VCALENDAR
VERSION:2.0
PRODID:-//Mustangs JRB Hockey - ECPv4.5.10//NONSGML v1.0//EN
CALSCALE:GREGORIAN
METHOD:PUBLISH
X-WR-CALNAME:Mustangs JRB Hockey
X-ORIGINAL-URL:http://mustangsjrb.ca
X-WR-CALDESC:Events for Mustangs JRB Hockey
BEGIN:VEVENT
DTSTART;TZID=America/Edmonton:20230907T210000
DTEND;TZID=America/Edmonton:20230907T223000
DTSTAMP:20260421T085309
CREATED:20230725T220312Z
LAST-MODIFIED:20230725T220312Z
UID:1115-1694120400-1694125800@mustangsjrb.ca
SUMMARY:Try Outs
DESCRIPTION:Callingwood A Arena \nThursday September 7th \n9:00 pm – 10:30 pm \n
URL:http://mustangsjrb.ca/event/try-outs-2/
END:VEVENT
END:VCALENDAR