BEGIN:VCALENDAR
VERSION:2.0
PRODID:-//Mustangs JRB Hockey - ECPv4.5.10//NONSGML v1.0//EN
CALSCALE:GREGORIAN
METHOD:PUBLISH
X-WR-CALNAME:Mustangs JRB Hockey
X-ORIGINAL-URL:http://mustangsjrb.ca
X-WR-CALDESC:Events for Mustangs JRB Hockey
BEGIN:VEVENT
DTSTART;TZID=America/Edmonton:20181104T200000
DTEND;TZID=America/Edmonton:20181104T221500
DTSTAMP:20260425T040825
CREATED:20180910T165945Z
LAST-MODIFIED:20180910T165945Z
UID:542-1541361600-1541369700@mustangsjrb.ca
SUMMARY:Stony Plain vs Mustangs (home game) - Bill Hunter
DESCRIPTION:Stony Plain vs Mustangs (home game) – Bill Hunter \n
URL:http://mustangsjrb.ca/event/stony-plain-vs-mustangs-home-game-bill-hunter/
END:VEVENT
END:VCALENDAR