BEGIN:VCALENDAR
VERSION:2.0
PRODID:-//Mustangs JRB Hockey - ECPv4.5.10//NONSGML v1.0//EN
CALSCALE:GREGORIAN
METHOD:PUBLISH
X-WR-CALNAME:Mustangs JRB Hockey
X-ORIGINAL-URL:http://mustangsjrb.ca
X-WR-CALDESC:Events for Mustangs JRB Hockey
BEGIN:VEVENT
DTSTART;TZID=America/Edmonton:20181125T200000
DTEND;TZID=America/Edmonton:20181125T221500
DTSTAMP:20260425T135122
CREATED:20180910T171947Z
LAST-MODIFIED:20180910T171947Z
UID:554-1543176000-1543184100@mustangsjrb.ca
SUMMARY:Stony Plain vs Mustangs (home game) - Bill Hunter
DESCRIPTION:Stony Plain vs Mustangs (home game) – Bill Hunter \n
URL:http://mustangsjrb.ca/event/stony-plain-vs-mustangs-home-game-bill-hunter-2/
END:VEVENT
END:VCALENDAR