BEGIN:VCALENDAR
VERSION:2.0
PRODID:-//Mustangs JRB Hockey - ECPv4.5.10//NONSGML v1.0//EN
CALSCALE:GREGORIAN
METHOD:PUBLISH
X-WR-CALNAME:Mustangs JRB Hockey
X-ORIGINAL-URL:http://mustangsjrb.ca
X-WR-CALDESC:Events for Mustangs JRB Hockey
BEGIN:VEVENT
DTSTART;TZID=America/Edmonton:20181202T200000
DTEND;TZID=America/Edmonton:20181202T221500
DTSTAMP:20260425T172216
CREATED:20180910T172248Z
LAST-MODIFIED:20180910T172248Z
UID:558-1543780800-1543788900@mustangsjrb.ca
SUMMARY:Spruve Grove vs Mustangs (home game) - Bill Hunter
DESCRIPTION:Spruve Grove vs Mustangs (home game) – Bill Hunter \n
URL:http://mustangsjrb.ca/event/spruve-grove-vs-mustangs-home-game-bill-hunter/
END:VEVENT
END:VCALENDAR