BEGIN:VCALENDAR
VERSION:2.0
PRODID:-//Mustangs JRB Hockey - ECPv4.5.10//NONSGML v1.0//EN
CALSCALE:GREGORIAN
METHOD:PUBLISH
X-WR-CALNAME:Mustangs JRB Hockey
X-ORIGINAL-URL:http://mustangsjrb.ca
X-WR-CALDESC:Events for Mustangs JRB Hockey
BEGIN:VEVENT
DTSTART;TZID=America/Edmonton:20220728T220000
DTEND;TZID=America/Edmonton:20220728T230000
DTSTAMP:20260422T094708
CREATED:20220718T160313Z
LAST-MODIFIED:20220718T161555Z
UID:962-1659045600-1659049200@mustangsjrb.ca
SUMMARY:Conditioning Camp
DESCRIPTION:Summer Conditioning Camp (These are open skates) \nThe Meadows Community Recreation Centre \n10:00 pm – 11:00 pm \n
URL:http://mustangsjrb.ca/event/pre-season-ice/
END:VEVENT
END:VCALENDAR