BEGIN:VCALENDAR
VERSION:2.0
PRODID:-//Mustangs JRB Hockey - ECPv4.5.10//NONSGML v1.0//EN
CALSCALE:GREGORIAN
METHOD:PUBLISH
X-WR-CALNAME:Mustangs JRB Hockey
X-ORIGINAL-URL:http://mustangsjrb.ca
X-WR-CALDESC:Events for Mustangs JRB Hockey
BEGIN:VEVENT
DTSTART;TZID=America/Edmonton:20180910T213000
DTEND;TZID=America/Edmonton:20180910T223000
DTSTAMP:20260425T204818
CREATED:20180812T225020Z
LAST-MODIFIED:20180812T225020Z
UID:471-1536615000-1536618600@mustangsjrb.ca
SUMMARY:Practice - Callingwood B
DESCRIPTION:Practice – Callingwood B \n
URL:http://mustangsjrb.ca/event/practice-callingwood-b/
END:VEVENT
END:VCALENDAR