BEGIN:VCALENDAR
VERSION:2.0
PRODID:-//Mustangs JRB Hockey - ECPv4.5.10//NONSGML v1.0//EN
CALSCALE:GREGORIAN
METHOD:PUBLISH
X-WR-CALNAME:Mustangs JRB Hockey
X-ORIGINAL-URL:http://mustangsjrb.ca
X-WR-CALDESC:Events for Mustangs JRB Hockey
BEGIN:VEVENT
DTSTART;TZID=America/Edmonton:20180913T213000
DTEND;TZID=America/Edmonton:20180913T223000
DTSTAMP:20260425T185920
CREATED:20180812T225127Z
LAST-MODIFIED:20180812T225127Z
UID:473-1536874200-1536877800@mustangsjrb.ca
SUMMARY:Practice - Callingwood A
DESCRIPTION:Practice – Callingwood A \n
URL:http://mustangsjrb.ca/event/practice-callingwood-a/
END:VEVENT
END:VCALENDAR