BEGIN:VCALENDAR
VERSION:2.0
PRODID:-//Mustangs JRB Hockey - ECPv4.5.10//NONSGML v1.0//EN
CALSCALE:GREGORIAN
METHOD:PUBLISH
X-WR-CALNAME:Mustangs JRB Hockey
X-ORIGINAL-URL:http://mustangsjrb.ca
X-WR-CALDESC:Events for Mustangs JRB Hockey
BEGIN:VEVENT
DTSTART;TZID=America/Edmonton:20180909T194500
DTEND;TZID=America/Edmonton:20180909T223000
DTSTAMP:20260425T190727
CREATED:20180812T224846Z
LAST-MODIFIED:20180812T224846Z
UID:469-1536522300-1536532200@mustangsjrb.ca
SUMMARY:Practice - Bill Hunter
DESCRIPTION:Practice – Bill Hunter \n
URL:http://mustangsjrb.ca/event/practice-bill-hunter/
END:VEVENT
END:VCALENDAR