BEGIN:VCALENDAR
VERSION:2.0
PRODID:-//Mustangs JRB Hockey - ECPv4.5.10//NONSGML v1.0//EN
CALSCALE:GREGORIAN
METHOD:PUBLISH
X-WR-CALNAME:Mustangs JRB Hockey
X-ORIGINAL-URL:http://mustangsjrb.ca
X-WR-CALDESC:Events for Mustangs JRB Hockey
BEGIN:VEVENT
DTSTART;TZID=America/Edmonton:20180924T211500
DTEND;TZID=America/Edmonton:20180924T221500
DTSTAMP:20260425T123724
CREATED:20180812T225750Z
LAST-MODIFIED:20180812T225750Z
UID:481-1537823700-1537827300@mustangsjrb.ca
SUMMARY:Practice - Bill Hunter
DESCRIPTION:Practice – Bill Hunter \n
URL:http://mustangsjrb.ca/event/practice-bill-hunter-5/
END:VEVENT
END:VCALENDAR