BEGIN:VCALENDAR
VERSION:2.0
PRODID:-//Mustangs JRB Hockey - ECPv4.5.10//NONSGML v1.0//EN
CALSCALE:GREGORIAN
METHOD:PUBLISH
X-WR-CALNAME:Mustangs JRB Hockey
X-ORIGINAL-URL:http://mustangsjrb.ca
X-WR-CALDESC:Events for Mustangs JRB Hockey
BEGIN:VEVENT
DTSTART;TZID=America/Edmonton:20181115T221500
DTEND;TZID=America/Edmonton:20181115T221500
DTSTAMP:20260425T104814
CREATED:20180910T195613Z
LAST-MODIFIED:20180910T195613Z
UID:601-1542320100-1542320100@mustangsjrb.ca
SUMMARY:Practice - Bill Hunter
DESCRIPTION:Practice – Bill Hunter \n
URL:http://mustangsjrb.ca/event/practice-bill-hunter-20/
END:VEVENT
END:VCALENDAR