BEGIN:VCALENDAR
VERSION:2.0
PRODID:-//Mustangs JRB Hockey - ECPv4.5.10//NONSGML v1.0//EN
CALSCALE:GREGORIAN
METHOD:PUBLISH
X-WR-CALNAME:Mustangs JRB Hockey
X-ORIGINAL-URL:http://mustangsjrb.ca
X-WR-CALDESC:Events for Mustangs JRB Hockey
BEGIN:VEVENT
DTSTART;TZID=America/Edmonton:20181014T200000
DTEND;TZID=America/Edmonton:20181014T221500
DTSTAMP:20260425T123631
CREATED:20180905T185150Z
LAST-MODIFIED:20180905T185150Z
UID:513-1539547200-1539555300@mustangsjrb.ca
SUMMARY:Mustangs vs Warriors (away game) Clareview Arena
DESCRIPTION:Mustangs vs Warriors (away game) Clareview Arena \n
URL:http://mustangsjrb.ca/event/mustangs-vs-warriors-away-game-clareview-arena/
END:VEVENT
END:VCALENDAR