BEGIN:VCALENDAR
VERSION:2.0
PRODID:-//Mustangs JRB Hockey - ECPv4.5.10//NONSGML v1.0//EN
CALSCALE:GREGORIAN
METHOD:PUBLISH
X-WR-CALNAME:Mustangs JRB Hockey
X-ORIGINAL-URL:http://mustangsjrb.ca
X-WR-CALDESC:Events for Mustangs JRB Hockey
BEGIN:VEVENT
DTSTART;TZID=America/Edmonton:20190104T203000
DTEND;TZID=America/Edmonton:20190104T224500
DTSTAMP:20260425T182154
CREATED:20180910T173347Z
LAST-MODIFIED:20180910T173347Z
UID:572-1546633800-1546641900@mustangsjrb.ca
SUMMARY:Mustangs vs Stony Plain (away game) - Glenn Hall
DESCRIPTION:Mustangs vs Stony Plain (away game) – Glenn Hall \n
URL:http://mustangsjrb.ca/event/mustangs-vs-stony-plain-away-game-glenn-hall/
END:VEVENT
END:VCALENDAR