BEGIN:VCALENDAR
VERSION:2.0
PRODID:-//Mustangs JRB Hockey - ECPv4.5.10//NONSGML v1.0//EN
CALSCALE:GREGORIAN
METHOD:PUBLISH
X-WR-CALNAME:Mustangs JRB Hockey
X-ORIGINAL-URL:http://mustangsjrb.ca
X-WR-CALDESC:Events for Mustangs JRB Hockey
BEGIN:VEVENT
DTSTART;TZID=America/Edmonton:20190203T191500
DTEND;TZID=America/Edmonton:20190203T213000
DTSTAMP:20260425T022820
CREATED:20180910T175353Z
LAST-MODIFIED:20180910T175353Z
UID:588-1549221300-1549229400@mustangsjrb.ca
SUMMARY:Mustangs vs Spruce Grove  (away game) - Grant Fuhr
DESCRIPTION:Mustangs vs Spruce Grove (away game) – Grant Fuhr \n
URL:http://mustangsjrb.ca/event/mustangs-vs-spruce-grove-away-game-grant-fuhr/
END:VEVENT
END:VCALENDAR