BEGIN:VCALENDAR
VERSION:2.0
PRODID:-//Mustangs JRB Hockey - ECPv4.5.10//NONSGML v1.0//EN
CALSCALE:GREGORIAN
METHOD:PUBLISH
X-WR-CALNAME:Mustangs JRB Hockey
X-ORIGINAL-URL:http://mustangsjrb.ca
X-WR-CALDESC:Events for Mustangs JRB Hockey
BEGIN:VEVENT
DTSTART;TZID=America/Edmonton:20181012T203000
DTEND;TZID=America/Edmonton:20181012T224500
DTSTAMP:20260425T123100
CREATED:20180905T185037Z
LAST-MODIFIED:20180905T185037Z
UID:511-1539376200-1539384300@mustangsjrb.ca
SUMMARY:Mustangs vs Sherwood Park (away game) Sherwood Park Arena
DESCRIPTION:Mustangs vs Sherwood Park (away game) Sherwood Park Arena \n
URL:http://mustangsjrb.ca/event/mustangs-vs-sherwood-park-away-game-sherwood-park-arena/
END:VEVENT
END:VCALENDAR