BEGIN:VCALENDAR
VERSION:2.0
PRODID:-//Mustangs JRB Hockey - ECPv4.5.10//NONSGML v1.0//EN
CALSCALE:GREGORIAN
METHOD:PUBLISH
X-WR-CALNAME:Mustangs JRB Hockey
X-ORIGINAL-URL:http://mustangsjrb.ca
X-WR-CALDESC:Events for Mustangs JRB Hockey
BEGIN:VEVENT
DTSTART;TZID=America/Edmonton:20180907T194500
DTEND;TZID=America/Edmonton:20180907T223000
DTSTAMP:20260425T172803
CREATED:20170901T213544Z
LAST-MODIFIED:20180815T190428Z
UID:350-1536349500-1536359400@mustangsjrb.ca
SUMMARY:Exhibition Game Beverly vs Mustangs
DESCRIPTION:Exhibition Game Bill Hunter Arena \n
URL:http://mustangsjrb.ca/event/mustangs-vs-royals/
END:VEVENT
END:VCALENDAR