BEGIN:VCALENDAR
VERSION:2.0
PRODID:-//Mustangs JRB Hockey - ECPv4.5.10//NONSGML v1.0//EN
CALSCALE:GREGORIAN
METHOD:PUBLISH
X-WR-CALNAME:Mustangs JRB Hockey
X-ORIGINAL-URL:http://mustangsjrb.ca
X-WR-CALDESC:Events for Mustangs JRB Hockey
BEGIN:VEVENT
DTSTART;TZID=America/Edmonton:20190109T200000
DTEND;TZID=America/Edmonton:20190109T221500
DTSTAMP:20260425T132306
CREATED:20180910T173848Z
LAST-MODIFIED:20180910T173848Z
UID:576-1547064000-1547072100@mustangsjrb.ca
SUMMARY:Mustangs vs Royals (away game) - Confederation
DESCRIPTION:Mustangs vs Royals (away game) – Confederation \n
URL:http://mustangsjrb.ca/event/mustangs-vs-royals-away-game-confederation/
END:VEVENT
END:VCALENDAR