BEGIN:VCALENDAR
VERSION:2.0
PRODID:-//Mustangs JRB Hockey - ECPv4.5.10//NONSGML v1.0//EN
CALSCALE:GREGORIAN
METHOD:PUBLISH
X-WR-CALNAME:Mustangs JRB Hockey
X-ORIGINAL-URL:http://mustangsjrb.ca
X-WR-CALDESC:Events for Mustangs JRB Hockey
BEGIN:VEVENT
DTSTART;TZID=America/Edmonton:20190210T193000
DTEND;TZID=America/Edmonton:20190210T214500
DTSTAMP:20260425T010150
CREATED:20180910T175514Z
LAST-MODIFIED:20180910T175514Z
UID:590-1549827000-1549835100@mustangsjrb.ca
SUMMARY:Mustangs vs Morinville  (away game) - Ray MacDonald
DESCRIPTION:Mustangs vs Morinville (away game) – Ray MacDonald \n
URL:http://mustangsjrb.ca/event/mustangs-vs-morinville-away-game-ray-macdonald/
END:VEVENT
END:VCALENDAR