BEGIN:VCALENDAR
VERSION:2.0
PRODID:-//Mustangs JRB Hockey - ECPv4.5.10//NONSGML v1.0//EN
CALSCALE:GREGORIAN
METHOD:PUBLISH
X-WR-CALNAME:Mustangs JRB Hockey
X-ORIGINAL-URL:http://mustangsjrb.ca
X-WR-CALDESC:Events for Mustangs JRB Hockey
BEGIN:VEVENT
DTSTART;TZID=America/Edmonton:20220901T190000
DTEND;TZID=America/Edmonton:20220901T203000
DTSTAMP:20260422T012516
CREATED:20220722T180422Z
LAST-MODIFIED:20220722T181848Z
UID:977-1662058800-1662064200@mustangsjrb.ca
SUMMARY:Tryouts
DESCRIPTION:Tryout Ice @ 7pm \nCallingwood B Arena \n
URL:http://mustangsjrb.ca/event/exhibition-game/
END:VEVENT
END:VCALENDAR