BEGIN:VCALENDAR
VERSION:2.0
PRODID:-//Mustangs JRB Hockey - ECPv4.5.10//NONSGML v1.0//EN
CALSCALE:GREGORIAN
METHOD:PUBLISH
X-WR-CALNAME:Mustangs JRB Hockey
X-ORIGINAL-URL:http://mustangsjrb.ca
X-WR-CALDESC:Events for Mustangs JRB Hockey
BEGIN:VEVENT
DTSTART;TZID=America/Edmonton:20220915T190000
DTEND;TZID=America/Edmonton:20220915T203000
DTSTAMP:20260421T221104
CREATED:20220722T181135Z
LAST-MODIFIED:20220722T182122Z
UID:984-1663268400-1663273800@mustangsjrb.ca
SUMMARY:Tryouts
DESCRIPTION:Tryout Ice @ 7pm \nCallingwood B Arena \n
URL:http://mustangsjrb.ca/event/exhibition-game-4/
END:VEVENT
END:VCALENDAR