BEGIN:VCALENDAR
VERSION:2.0
PRODID:-//Mustangs JRB Hockey - ECPv4.5.10//NONSGML v1.0//EN
CALSCALE:GREGORIAN
METHOD:PUBLISH
X-WR-CALNAME:Mustangs JRB Hockey
X-ORIGINAL-URL:http://mustangsjrb.ca
X-WR-CALDESC:Events for Mustangs JRB Hockey
BEGIN:VEVENT
DTSTART;TZID=America/Edmonton:20220911T194500
DTEND;TZID=America/Edmonton:20220911T221500
DTSTAMP:20260421T235547
CREATED:20220722T180730Z
LAST-MODIFIED:20220722T181015Z
UID:981-1662925500-1662934500@mustangsjrb.ca
SUMMARY:Exhibition Game
DESCRIPTION:Exhibition Game @ 7:45 pm \nBill Hunter Arena \n
URL:http://mustangsjrb.ca/event/exhibition-game-3/
END:VEVENT
END:VCALENDAR