BEGIN:VCALENDAR
VERSION:2.0
PRODID:-//Mustangs JRB Hockey - ECPv4.5.10//NONSGML v1.0//EN
CALSCALE:GREGORIAN
METHOD:PUBLISH
X-WR-CALNAME:Mustangs JRB Hockey
X-ORIGINAL-URL:http://mustangsjrb.ca
X-WR-CALDESC:Events for Mustangs JRB Hockey
BEGIN:VEVENT
DTSTART;TZID=America/Edmonton:20180830T201500
DTEND;TZID=America/Edmonton:20180830T211500
DTSTAMP:20260425T123217
CREATED:20180824T183645Z
LAST-MODIFIED:20180824T183645Z
UID:492-1535660100-1535663700@mustangsjrb.ca
SUMMARY:Conditioning Camp 8:15-9:15 pm Bill Hunter
DESCRIPTION:Conditioning Camp 8:15-9:15 pm Bill Hunter \n
URL:http://mustangsjrb.ca/event/conditioning-camp-815-915-pm-bill-hunter/
END:VEVENT
END:VCALENDAR