BEGIN:VCALENDAR
VERSION:2.0
PRODID:-//Mustangs JRB Hockey - ECPv4.5.10//NONSGML v1.0//EN
CALSCALE:GREGORIAN
METHOD:PUBLISH
X-WR-CALNAME:Mustangs JRB Hockey
X-ORIGINAL-URL:http://mustangsjrb.ca
X-WR-CALDESC:Events for Mustangs JRB Hockey
BEGIN:VEVENT
DTSTART;TZID=America/Edmonton:20230727T191500
DTEND;TZID=America/Edmonton:20230727T204500
DTSTAMP:20260421T115554
CREATED:20230606T182907Z
LAST-MODIFIED:20230606T183057Z
UID:1087-1690485300-1690490700@mustangsjrb.ca
SUMMARY:Conditioning Camp
DESCRIPTION:Conditioning Camp \nCallingwood A Arena \nJuly 27\, 2023 \n7:15-8:45pm \n
URL:http://mustangsjrb.ca/event/conditioning-camp-7/
END:VEVENT
END:VCALENDAR