BEGIN:VCALENDAR
VERSION:2.0
PRODID:-//Mustangs JRB Hockey - ECPv4.5.10//NONSGML v1.0//EN
CALSCALE:GREGORIAN
METHOD:PUBLISH
X-WR-CALNAME:Mustangs JRB Hockey
X-ORIGINAL-URL:http://mustangsjrb.ca
X-WR-CALDESC:Events for Mustangs JRB Hockey
BEGIN:VEVENT
DTSTART;TZID=America/Edmonton:20220810T213000
DTEND;TZID=America/Edmonton:20220810T230000
DTSTAMP:20260422T061838
CREATED:20220718T161745Z
LAST-MODIFIED:20220718T161813Z
UID:970-1660167000-1660172400@mustangsjrb.ca
SUMMARY:Conditioning Camp
DESCRIPTION:Summer Conditioning Camp (These are open skates) \nThe Meadows Community Recreation Centre \n9:30pm – 11:00pm \n
URL:http://mustangsjrb.ca/event/970/
END:VEVENT
END:VCALENDAR