BEGIN:VCALENDAR
VERSION:2.0
PRODID:-//Mustangs JRB Hockey - ECPv4.5.10//NONSGML v1.0//EN
CALSCALE:GREGORIAN
METHOD:PUBLISH
X-WR-CALNAME:Mustangs JRB Hockey
X-ORIGINAL-URL:http://mustangsjrb.ca
X-WR-CALDESC:Events for Mustangs JRB Hockey
BEGIN:VEVENT
DTSTART;TZID=America/Edmonton:20180905T210000
DTEND;TZID=America/Edmonton:20180905T223000
DTSTAMP:20260425T172716
CREATED:20180812T224405Z
LAST-MODIFIED:20180812T230108Z
UID:466-1536181200-1536186600@mustangsjrb.ca
SUMMARY:Main Camp - Bill Hunter
DESCRIPTION:Main Camp – Bill Hunter \n
URL:http://mustangsjrb.ca/event/466/
END:VEVENT
END:VCALENDAR